BEGIN:VCALENDAR
PRODID:-
VERSION:2.0
BEGIN:VEVENT
DTSTART;VALUE=DATE:20240216
DTSTAMP:20260419T215928Z
SEQUENCE:0
SUMMARY:Prefect Training Day 
UID:5760@stpaulscollegiateschool
END:VEVENT
END:VCALENDAR
