BEGIN:VCALENDAR
PRODID:-
VERSION:2.0
BEGIN:VEVENT
DTSTART;VALUE=DATE:20240216
DTSTAMP:20260419T221051Z
SEQUENCE:0
SUMMARY:Futsal - In House Competition
DESCRIPTION:Futsal students not playing in tonight's Summer League there is an In-House Competiton @ 3.45 pm to 5 pm in the New Gym<br/>
UID:6137@stpaulscollegiateschool
END:VEVENT
END:VCALENDAR
