BEGIN:VCALENDAR
PRODID:-
VERSION:2.0
BEGIN:VEVENT
DTSTART;VALUE=DATE:20240217
DTSTAMP:20260419T210148Z
SEQUENCE:0
SUMMARY:Cricket - 1st XI - Club 2 Dayer
DESCRIPTION:St Paul's 1st XI vs Cambridge Snr Mens @ 10.30 am on the Way Oval<br/>
UID:6059@stpaulscollegiateschool
END:VEVENT
END:VCALENDAR
