BEGIN:VCALENDAR
PRODID:-
VERSION:2.0
BEGIN:VEVENT
DTSTART;VALUE=DATE:20240220
DTSTAMP:20260420T014529Z
SEQUENCE:0
SUMMARY:Cricket - Girls 1st XI Game (Bumble Bee T-shirt, Black Short
DESCRIPTION:St Paul's Girls 1st XI vs St Peters @ St Peter's Cambridge @ 4.30 pm at St Peter's Field 1A<br/>
UID:6130@stpaulscollegiateschool
END:VEVENT
END:VCALENDAR
