BEGIN:VCALENDAR
PRODID:-
VERSION:2.0
BEGIN:VEVENT
DTSTART;VALUE=DATE:20240220
DTSTAMP:20260420T011722Z
SEQUENCE:0
SUMMARY:Tihoi 2024/1 - Parent Morning Tea 
DESCRIPTION:In Dining Room Annex<br/>
UID:6037@stpaulscollegiateschool
END:VEVENT
END:VCALENDAR
