BEGIN:VCALENDAR
PRODID:-
VERSION:2.0
BEGIN:VEVENT
DTSTART;VALUE=DATE:20240220
DTSTAMP:20260420T011857Z
SEQUENCE:0
SUMMARY:Charity Day (mufti) - KidsCan (Click for details)
DESCRIPTION:School Charity Days (non-uniform) are held twice a term (six times a year). Money raised from this event goes towards a particular charity.<br>The donation is cashless and is charged to the account holder's account with permission. The minimum payment is $5 and students can opt to pay more (with permission from the account holder). This payment is done in the student's house where the student signs and authorises the donation on a sheet with their housemaster. If the student chooses to wear uniform for the day and make no donation, that is completely fine.<br/>
UID:5938@stpaulscollegiateschool
END:VEVENT
END:VCALENDAR
