BEGIN:VCALENDAR
PRODID:-
VERSION:2.0
BEGIN:VEVENT
DTSTART;VALUE=DATE:20240221
DTSTAMP:20260419T210300Z
SEQUENCE:0
SUMMARY:Y12 Agribusiness Trip 
DESCRIPTION:Field trip to gain understanding of Zealong and Dalton's operations for the internal Achievement Standard on Future Proofing and to gain an understanding on the career opportunities that are available in these businesses.<br/>
UID:5985@stpaulscollegiateschool
END:VEVENT
END:VCALENDAR
