BEGIN:VCALENDAR
PRODID:-
VERSION:2.0
BEGIN:VEVENT
DTSTART;VALUE=DATE:20240221
DTSTAMP:20260419T210014Z
SEQUENCE:0
SUMMARY:Cricket Draw - T20 Games (Bumble Bee Shirt, Black Shorts, Sc
DESCRIPTION:St Paul's Junior Gold XI vs RHS Raiders @ 4.30 pm at St Paul's Collegiate<br>St Paul's Junior XI vs St John's College Yr 9 & 10 @ 4.30 pm at St John's College  1A<br/>
UID:6121@stpaulscollegiateschool
END:VEVENT
END:VCALENDAR
