BEGIN:VCALENDAR
PRODID:-
VERSION:2.0
BEGIN:VEVENT
DTSTART;TZID=Pacific/Auckland:20240221T000000Z
DTEND;TZID=Pacific/Auckland:20240223T000000Z
TRANSP:OPAQUE
DTSTAMP:20260419T215647Z
SEQUENCE:0
SUMMARY:Tihoi 2024/1 - Outdoor Rotation 1 
UID:5904@stpaulscollegiateschool
END:VEVENT
END:VCALENDAR
