BEGIN:VCALENDAR
PRODID:-
VERSION:2.0
BEGIN:VEVENT
DTSTART;VALUE=DATE:20240221
DTSTAMP:20260419T210337Z
SEQUENCE:0
SUMMARY:Year 5/6 Southwell Swimming Sports
DESCRIPTION:At St Paul's Pool<br/>
UID:5896@stpaulscollegiateschool
END:VEVENT
END:VCALENDAR
