BEGIN:VCALENDAR
PRODID:-
VERSION:2.0
BEGIN:VEVENT
DTSTART;VALUE=DATE:20240221
DTSTAMP:20260419T205932Z
SEQUENCE:0
SUMMARY:Cricket Draw - 3rd XI (Bumble Bee Shirt, Black Shorts, Schoo
DESCRIPTION:St Paul's 3rd XI vs St Johns College @ 4.30 pm at St Paul's, Bilkey Field<br/>
UID:6139@stpaulscollegiateschool
END:VEVENT
END:VCALENDAR
