BEGIN:VCALENDAR
PRODID:-
VERSION:2.0
BEGIN:VEVENT
DTSTART;VALUE=DATE:20240222
DTSTAMP:20260420T013913Z
SEQUENCE:0
SUMMARY:Year 7/8 Southwell Swimming Sports
DESCRIPTION:St Paul's Pool<br/>
UID:5897@stpaulscollegiateschool
END:VEVENT
END:VCALENDAR
