BEGIN:VCALENDAR
PRODID:-
VERSION:2.0
BEGIN:VEVENT
DTSTART;VALUE=DATE:20240222
DTSTAMP:20260420T012031Z
SEQUENCE:0
SUMMARY:Jake Bailey Presentation 
DESCRIPTION:12:10 start.<br>Note Period 4 will finish at 12:00 pm<br/>
UID:5764@stpaulscollegiateschool
END:VEVENT
END:VCALENDAR
