BEGIN:VCALENDAR
PRODID:-
VERSION:2.0
BEGIN:VEVENT
DTSTART;VALUE=DATE:20240222
DTSTAMP:20260420T021142Z
SEQUENCE:0
SUMMARY:Cricket - 1st XI T20 vs MMC @ Home
UID:6060@stpaulscollegiateschool
END:VEVENT
END:VCALENDAR
