BEGIN:VCALENDAR
PRODID:-
VERSION:2.0
BEGIN:VEVENT
DTSTART;VALUE=DATE:20240223
DTSTAMP:20260419T201913Z
SEQUENCE:0
SUMMARY:Southwell Swimming Sports Postponement Day 
UID:5898@stpaulscollegiateschool
END:VEVENT
END:VCALENDAR
