BEGIN:VCALENDAR
PRODID:-
VERSION:2.0
BEGIN:VEVENT
DTSTART;VALUE=DATE:20240223
DTSTAMP:20260419T200842Z
SEQUENCE:0
SUMMARY:Pasifika Fono - Waikato University 
DESCRIPTION:Sarah Cantlon / Sarah Douglas<br/>
UID:5899@stpaulscollegiateschool
END:VEVENT
END:VCALENDAR
