BEGIN:VCALENDAR
PRODID:-
VERSION:2.0
BEGIN:VEVENT
DTSTART;VALUE=DATE:20240223
DTSTAMP:20260419T205450Z
SEQUENCE:0
SUMMARY:Futsal Friday Night League
DESCRIPTION:Friday Night League Team @ The Peak Rototuna.  Meet at 7.50 pm for an 8.15 pm Kick-off<br/>
UID:6163@stpaulscollegiateschool
END:VEVENT
END:VCALENDAR
