BEGIN:VCALENDAR
PRODID:-
VERSION:2.0
BEGIN:VEVENT
DTSTART;VALUE=DATE:20240224
DTSTAMP:20260419T221630Z
SEQUENCE:0
SUMMARY:Cricket Draw - Colts XI
DESCRIPTION:St Paul's vs St Peter's Cambridge @ 10 am at St Paul's Collegiate Bilkey Field<br/>
UID:6140@stpaulscollegiateschool
END:VEVENT
END:VCALENDAR
