BEGIN:VCALENDAR
PRODID:-
VERSION:2.0
BEGIN:VEVENT
DTSTART;VALUE=DATE:20240309
DTSTAMP:20260419T221051Z
SEQUENCE:0
SUMMARY:Tihoi 2024/1 - Return from Exeat 
UID:5770@stpaulscollegiateschool
END:VEVENT
END:VCALENDAR
