BEGIN:VCALENDAR
PRODID:-
VERSION:2.0
BEGIN:VEVENT
DTSTART;TZID=Pacific/Auckland:20240313T000000Z
DTEND;TZID=Pacific/Auckland:20240315T000000Z
TRANSP:OPAQUE
DTSTAMP:20260419T183938Z
SEQUENCE:0
SUMMARY:Tihoi 2024/1 - Outdoor Rotation 2 
UID:5906@stpaulscollegiateschool
END:VEVENT
END:VCALENDAR
