BEGIN:VCALENDAR
PRODID:-
VERSION:2.0
BEGIN:VEVENT
DTSTART;TZID=Pacific/Auckland:20240320T000000Z
DTEND;TZID=Pacific/Auckland:20240322T000000Z
TRANSP:OPAQUE
DTSTAMP:20260419T183639Z
SEQUENCE:0
SUMMARY:Tihoi 2024/1 - Rotation 2 
UID:5907@stpaulscollegiateschool
END:VEVENT
END:VCALENDAR
