BEGIN:VCALENDAR
PRODID:-
VERSION:2.0
BEGIN:VEVENT
DTSTART;VALUE=DATE:20240325
DTSTAMP:20260419T215648Z
SEQUENCE:0
SUMMARY:Tihoi 2024/1 - Parcel Run 
UID:6103@stpaulscollegiateschool
END:VEVENT
END:VCALENDAR
