BEGIN:VCALENDAR
PRODID:-
VERSION:2.0
BEGIN:VEVENT
DTSTART;TZID=Pacific/Auckland:20240326T000000Z
DTEND;TZID=Pacific/Auckland:20240328T000000Z
TRANSP:OPAQUE
DTSTAMP:20260419T215647Z
SEQUENCE:0
SUMMARY:Tihoi 2024/1 - Rotation 2 
UID:5908@stpaulscollegiateschool
END:VEVENT
END:VCALENDAR
