BEGIN:VCALENDAR
PRODID:-
VERSION:2.0
BEGIN:VEVENT
DTSTART;VALUE=DATE:20240328
DTSTAMP:20260419T231230Z
SEQUENCE:0
SUMMARY:Tihoi 2024/1 - Exeat
UID:5726@stpaulscollegiateschool
END:VEVENT
END:VCALENDAR
