BEGIN:VCALENDAR
PRODID:-
VERSION:2.0
BEGIN:VEVENT
DTSTART;VALUE=DATE:20240428
DTSTAMP:20260421T143227Z
SEQUENCE:0
SUMMARY:Tihoi 2024/1 - Return from term break
UID:5729@stpaulscollegiateschool
END:VEVENT
END:VCALENDAR
