BEGIN:VCALENDAR
PRODID:-
VERSION:2.0
BEGIN:VEVENT
DTSTART;VALUE=DATE:20240506
DTSTAMP:20260422T102700Z
SEQUENCE:0
SUMMARY:Tihoi 2024/1 - Parcel Run 
UID:6107@stpaulscollegiateschool
END:VEVENT
END:VCALENDAR
