BEGIN:VCALENDAR
PRODID:-
VERSION:2.0
BEGIN:VEVENT
DTSTART;VALUE=DATE:20240510
DTSTAMP:20260422T170331Z
SEQUENCE:0
SUMMARY:Tihoi 2024/1 - Exeat 
UID:5730@stpaulscollegiateschool
END:VEVENT
END:VCALENDAR
