BEGIN:VCALENDAR
PRODID:-
VERSION:2.0
BEGIN:VEVENT
DTSTART;VALUE=DATE:20240514
DTSTAMP:20260423T004427Z
SEQUENCE:0
SUMMARY:Tihoi 2024/1 - Return from Exeat 
UID:5731@stpaulscollegiateschool
END:VEVENT
END:VCALENDAR
