BEGIN:VCALENDAR
PRODID:-
VERSION:2.0
BEGIN:VEVENT
DTSTART;VALUE=DATE:20240515
DTSTAMP:20260423T024017Z
SEQUENCE:0
SUMMARY:Tihoi 2024/1 - Parcel Run 
UID:6106@stpaulscollegiateschool
END:VEVENT
END:VCALENDAR
