BEGIN:VCALENDAR
PRODID:-
VERSION:2.0
BEGIN:VEVENT
DTSTART;TZID=Pacific/Auckland:20240524T000000Z
DTEND;TZID=Pacific/Auckland:20240526T000000Z
TRANSP:OPAQUE
DTSTAMP:20260423T184830Z
SEQUENCE:0
SUMMARY:Tihoi 2024/1 - Parent Tramp 2 
DESCRIPTION:Note - Parents will get the option to sign up to parent tramp 1 or 2 through the Director, Mr Peter Evans<br/>
UID:5920@stpaulscollegiateschool
END:VEVENT
END:VCALENDAR
