BEGIN:VCALENDAR
PRODID:-
VERSION:2.0
BEGIN:VEVENT
DTSTART;VALUE=DATE:20240527
DTSTAMP:20260423T221746Z
SEQUENCE:0
SUMMARY:Tihoi 2024/1 - Parcel Run 
UID:6109@stpaulscollegiateschool
END:VEVENT
END:VCALENDAR
