BEGIN:VCALENDAR
PRODID:-
VERSION:2.0
BEGIN:VEVENT
DTSTART;VALUE=DATE:20240608
DTSTAMP:20260424T131128Z
SEQUENCE:0
SUMMARY:Tihoi 2024/1 - Family Day & Exeat
UID:5732@stpaulscollegiateschool
END:VEVENT
END:VCALENDAR
