BEGIN:VCALENDAR
PRODID:-
VERSION:2.0
BEGIN:VEVENT
DTSTART;VALUE=DATE:20240612
DTSTAMP:20260424T012907Z
SEQUENCE:0
SUMMARY:Tihoi 2024/1 - Return from Exeat
UID:5733@stpaulscollegiateschool
END:VEVENT
END:VCALENDAR
