BEGIN:VCALENDAR
PRODID:-
VERSION:2.0
BEGIN:VEVENT
DTSTART;VALUE=DATE:20240613
DTSTAMP:20260424T013912Z
SEQUENCE:0
SUMMARY:Tihoi 2024/1 - Parcel Run 
UID:6110@stpaulscollegiateschool
END:VEVENT
END:VCALENDAR
