BEGIN:VCALENDAR
PRODID:-
VERSION:2.0
BEGIN:VEVENT
DTSTART;TZID=Pacific/Auckland:20240615T000000Z
DTEND;TZID=Pacific/Auckland:20240620T000000Z
TRANSP:OPAQUE
DTSTAMP:20260424T013057Z
SEQUENCE:0
SUMMARY:Tihoi 2024/1 - Expedition
UID:5922@stpaulscollegiateschool
END:VEVENT
END:VCALENDAR
