BEGIN:VCALENDAR
PRODID:-
VERSION:2.0
BEGIN:VEVENT
DTSTART;VALUE=DATE:20240624
DTSTAMP:20260424T045854Z
SEQUENCE:0
SUMMARY:Tihoi 2024/1 - Parcel Run 
UID:6111@stpaulscollegiateschool
END:VEVENT
END:VCALENDAR
