BEGIN:VCALENDAR
PRODID:-
VERSION:2.0
BEGIN:VEVENT
DTSTART;VALUE=DATE:20240628
DTSTAMP:20260424T045600Z
SEQUENCE:0
SUMMARY:Tihoi 2024/1 - Half Marathon 
UID:5923@stpaulscollegiateschool
END:VEVENT
END:VCALENDAR
