BEGIN:VCALENDAR
PRODID:-
VERSION:2.0
BEGIN:VEVENT
DTSTART;VALUE=DATE:20240721
DTSTAMP:20260424T100809Z
SEQUENCE:0
SUMMARY:Tihoi 2024/2 - Commences
DESCRIPTION:No bus service on this day<br/>
UID:5735@stpaulscollegiateschool
END:VEVENT
END:VCALENDAR
