BEGIN:VCALENDAR
PRODID:-
VERSION:2.0
BEGIN:VEVENT
DTSTART;TZID=Pacific/Auckland:20240724T000000Z
DTEND;TZID=Pacific/Auckland:20240726T000000Z
TRANSP:OPAQUE
DTSTAMP:20260424T120354Z
SEQUENCE:0
SUMMARY:Tihoi 2024/2 - House Tramp 
UID:6248@stpaulscollegiateschool
END:VEVENT
END:VCALENDAR
