BEGIN:VCALENDAR
PRODID:-
VERSION:2.0
BEGIN:VEVENT
DTSTART;VALUE=DATE:20240730
DTSTAMP:20260424T135833Z
SEQUENCE:0
SUMMARY:Tihoi 2024/2 - Parcel Run 
UID:6428@stpaulscollegiateschool
END:VEVENT
END:VCALENDAR
