BEGIN:VCALENDAR
PRODID:-
VERSION:2.0
BEGIN:VEVENT
DTSTART;TZID=Pacific/Auckland:20240731T000000Z
DTEND;TZID=Pacific/Auckland:20240802T000000Z
TRANSP:OPAQUE
DTSTAMP:20260424T135841Z
SEQUENCE:0
SUMMARY:Tihoi 2024/2 - Outdoor Rotations
DESCRIPTION:Bush 1, Rock 1, White Water Kayak 1<br/>
UID:6249@stpaulscollegiateschool
END:VEVENT
END:VCALENDAR
