BEGIN:VCALENDAR
PRODID:-
VERSION:2.0
BEGIN:VEVENT
DTSTART;VALUE=DATE:20240805
DTSTAMP:20260424T160034Z
SEQUENCE:0
SUMMARY:Tihoi 2024/2 - Parcel Run 
UID:6431@stpaulscollegiateschool
END:VEVENT
END:VCALENDAR
