BEGIN:VCALENDAR
PRODID:-
VERSION:2.0
BEGIN:VEVENT
DTSTART;TZID=Pacific/Auckland:20240807T000000Z
DTEND;TZID=Pacific/Auckland:20240809T000000Z
TRANSP:OPAQUE
DTSTAMP:20260424T160908Z
SEQUENCE:0
SUMMARY:Tihoi 2024/2 - Outdoor Rotation 
DESCRIPTION:Bush 1, Rock 1, White Water Kayak 1<br/>
UID:6250@stpaulscollegiateschool
END:VEVENT
END:VCALENDAR
