BEGIN:VCALENDAR
PRODID:-
VERSION:2.0
BEGIN:VEVENT
DTSTART;VALUE=DATE:20240812
DTSTAMP:20260424T183030Z
SEQUENCE:0
SUMMARY:Tihoi 2024/2 Parcel Run 
UID:6432@stpaulscollegiateschool
END:VEVENT
END:VCALENDAR
