BEGIN:VCALENDAR
PRODID:-
VERSION:2.0
BEGIN:VEVENT
DTSTART;TZID=Pacific/Auckland:20240814T000000Z
DTEND;TZID=Pacific/Auckland:20240816T000000Z
TRANSP:OPAQUE
DTSTAMP:20260424T125352Z
SEQUENCE:0
SUMMARY:Tihoi 2024/2 - Outdoor Rotation 
DESCRIPTION:Bush 1, Rock 1, White Water 1,<br/>
UID:6251@stpaulscollegiateschool
END:VEVENT
END:VCALENDAR
