BEGIN:VCALENDAR
PRODID:-
VERSION:2.0
BEGIN:VEVENT
DTSTART;VALUE=DATE:20240817
DTSTAMP:20260424T104846Z
SEQUENCE:0
SUMMARY:Tihoi 2024/2 - Exeat
UID:5736@stpaulscollegiateschool
END:VEVENT
END:VCALENDAR
