BEGIN:VCALENDAR
PRODID:-
VERSION:2.0
BEGIN:VEVENT
DTSTART;VALUE=DATE:20240821
DTSTAMP:20260424T031241Z
SEQUENCE:0
SUMMARY:Tihoi 2024/2 - Return from Exeat 
UID:5737@stpaulscollegiateschool
END:VEVENT
END:VCALENDAR
