BEGIN:VCALENDAR
PRODID:-
VERSION:2.0
BEGIN:VEVENT
DTSTART;VALUE=DATE:20240823
DTSTAMP:20260423T225934Z
SEQUENCE:0
SUMMARY:Tihoi 2024/2  8-Hour Solo 
UID:6252@stpaulscollegiateschool
END:VEVENT
END:VCALENDAR
