BEGIN:VCALENDAR
PRODID:-
VERSION:2.0
BEGIN:VEVENT
DTSTART;VALUE=DATE:20240826
DTSTAMP:20260423T182257Z
SEQUENCE:0
SUMMARY:Tihoi 2024/2 Parcel Run 
UID:6433@stpaulscollegiateschool
END:VEVENT
END:VCALENDAR
