BEGIN:VCALENDAR
PRODID:-
VERSION:2.0
BEGIN:VEVENT
DTSTART;TZID=Pacific/Auckland:20240828T000000Z
DTEND;TZID=Pacific/Auckland:20240830T000000Z
TRANSP:OPAQUE
DTSTAMP:20260423T105847Z
SEQUENCE:0
SUMMARY:Tihoi 2024/2 - Outdoor Rotation 
DESCRIPTION:Bush 2, Rock 2, Canoe<br/>
UID:6253@stpaulscollegiateschool
END:VEVENT
END:VCALENDAR
